BEGIN:VCALENDAR
VERSION:2.0
PRODID:-//pretix//Casa_de_Velazquez//
BEGIN:VTIMEZONE
TZID:Europe/Madrid
BEGIN:STANDARD
DTSTART:20001029T040000
RRULE:FREQ=YEARLY;BYDAY=-1SU;BYMONTH=10
TZNAME:CET
TZOFFSETFROM:+0200
TZOFFSETTO:+0100
END:STANDARD
BEGIN:DAYLIGHT
DTSTART:20000326T030000
RRULE:FREQ=YEARLY;BYDAY=-1SU;BYMONTH=3
TZNAME:CEST
TZOFFSETFROM:+0100
TZOFFSETTO:+0200
END:DAYLIGHT
END:VTIMEZONE
BEGIN:VEVENT
UID:pretix-CVZ-tertulia-m-coyula-0@eventos.casadevelazquez.org
DTSTART;TZID=Europe/Madrid:20241125T193000
DTEND;TZID=Europe/Madrid:20241125T203000
DESCRIPTION:Entradas: https://eventos.casadevelazquez.org/CVZ/tertulia-m-co
 yula/\nOrganizador: Casa de Velázquez
DTSTAMP:20260423T083151Z
LOCATION:Casa de Velázquez - Gran salón
SUMMARY:Tertulia en Casa VIII - Conversación con Miguel Coyula
END:VEVENT
END:VCALENDAR
